BEGIN:VCALENDAR
VERSION:2.0
PRODID:-//Shining Stars Fostering Agency - ECPv6.15.20//NONSGML v1.0//EN
CALSCALE:GREGORIAN
METHOD:PUBLISH
X-WR-CALNAME:Shining Stars Fostering Agency
X-ORIGINAL-URL:https://shiningstarsfostering.com
X-WR-CALDESC:Events for Shining Stars Fostering Agency
REFRESH-INTERVAL;VALUE=DURATION:PT1H
X-Robots-Tag:noindex
X-PUBLISHED-TTL:PT1H
BEGIN:VTIMEZONE
TZID:UTC
BEGIN:STANDARD
TZOFFSETFROM:+0000
TZOFFSETTO:+0000
TZNAME:UTC
DTSTART:20210101T000000
END:STANDARD
END:VTIMEZONE
BEGIN:VEVENT
DTSTART;TZID=UTC:20221125T190000
DTEND;TZID=UTC:20221125T233000
DTSTAMP:20260425T213304
CREATED:20221101T185554Z
LAST-MODIFIED:20250430T130639Z
UID:6753-1669402800-1669419000@shiningstarsfostering.com
SUMMARY:End Of The Year Party 2022
DESCRIPTION:End of the Year Party SSFA
URL:https://shiningstarsfostering.com/event/end-of-the-year-party-2022/
LOCATION:Clay Oven Banqueting\, 197 Ealing Road\, Wembley\, London\, Wembley\, HA04LW\, United Kingdom
CATEGORIES:Fun Day
ORGANIZER;CN="Shining Stars Fostering Agency":MAILTO:info@shiningstarsfostering.com
END:VEVENT
END:VCALENDAR