BEGIN:VCALENDAR
VERSION:2.0
PRODID:-//Shining Stars Fostering Agency - ECPv6.15.20//NONSGML v1.0//EN
CALSCALE:GREGORIAN
METHOD:PUBLISH
X-WR-CALNAME:Shining Stars Fostering Agency
X-ORIGINAL-URL:https://shiningstarsfostering.com
X-WR-CALDESC:Events for Shining Stars Fostering Agency
REFRESH-INTERVAL;VALUE=DURATION:PT1H
X-Robots-Tag:noindex
X-PUBLISHED-TTL:PT1H
BEGIN:VTIMEZONE
TZID:UTC
BEGIN:STANDARD
TZOFFSETFROM:+0000
TZOFFSETTO:+0000
TZNAME:UTC
DTSTART:20220101T000000
END:STANDARD
END:VTIMEZONE
BEGIN:VEVENT
DTSTART;TZID=UTC:20230515T100000
DTEND;TZID=UTC:20230528T170000
DTSTAMP:20260426T002104
CREATED:20230503T110304Z
LAST-MODIFIED:20250430T130501Z
UID:7001-1684144800-1685293200@shiningstarsfostering.com
SUMMARY:Fostering Fortnight 2023
DESCRIPTION:Foster Care Fortnight™\nThe Fostering Network’s annual campaign to raise the profile of fostering and show how foster care transforms lives. Foster Care Fortnight 2023 will take place from 15-28 May all around the UK.\nFoster Care Fortnight 2023\nThis year’s theme is #FosteringCommunities: to celebrate the strength and resilience of fostering communities.\nNew resources for Foster Care Fortnight 2023 available now!\nFind out more about Foster Care Fortnight 2023 >
URL:https://shiningstarsfostering.com/event/fostering-fortnight-2023/
LOCATION:All Around UK\, United Kingdom
END:VEVENT
END:VCALENDAR