BEGIN:VCALENDAR
VERSION:2.0
PRODID:-//Shining Stars Fostering Agency - ECPv6.15.20//NONSGML v1.0//EN
CALSCALE:GREGORIAN
METHOD:PUBLISH
X-WR-CALNAME:Shining Stars Fostering Agency
X-ORIGINAL-URL:https://shiningstarsfostering.com
X-WR-CALDESC:Events for Shining Stars Fostering Agency
REFRESH-INTERVAL;VALUE=DURATION:PT1H
X-Robots-Tag:noindex
X-PUBLISHED-TTL:PT1H
BEGIN:VTIMEZONE
TZID:UTC
BEGIN:STANDARD
TZOFFSETFROM:+0000
TZOFFSETTO:+0000
TZNAME:UTC
DTSTART:20180101T000000
END:STANDARD
END:VTIMEZONE
BEGIN:VEVENT
DTSTART;TZID=UTC:20190817T110000
DTEND;TZID=UTC:20190817T130000
DTSTAMP:20260426T025956
CREATED:20190815T103207Z
LAST-MODIFIED:20190815T153146Z
UID:2338-1566039600-1566046800@shiningstarsfostering.com
SUMMARY:Preparing for Independent Living and Adulthood Training - Croydon
DESCRIPTION:17/08/2019: Preparing for Independent Living and Adulthood Training – Croydon \nStarting: Saturday\, 20th July 2019\, 27th July and then every alternate Saturday from 11am-1pm. \nWe are running an exclusive training programme for our care leavers that will be based of five modules starting from Saturday 20th July 2019. The second module will be held on Saturday 27th July 2019 and then every alternate Saturdays. The sessions will be held at our office in Croydon and will be only for two hours from 11:00 am -1:00 pm
URL:https://shiningstarsfostering.com/event/preparing-for-independent-living-and-adulthood-training-3/
LOCATION:Croydon
END:VEVENT
END:VCALENDAR