BEGIN:VCALENDAR
VERSION:2.0
PRODID:-//Shining Stars Fostering Agency - ECPv6.15.20//NONSGML v1.0//EN
CALSCALE:GREGORIAN
METHOD:PUBLISH
X-WR-CALNAME:Shining Stars Fostering Agency
X-ORIGINAL-URL:https://shiningstarsfostering.com
X-WR-CALDESC:Events for Shining Stars Fostering Agency
REFRESH-INTERVAL;VALUE=DURATION:PT1H
X-Robots-Tag:noindex
X-PUBLISHED-TTL:PT1H
BEGIN:VTIMEZONE
TZID:UTC
BEGIN:STANDARD
TZOFFSETFROM:+0000
TZOFFSETTO:+0000
TZNAME:UTC
DTSTART:20230101T000000
END:STANDARD
END:VTIMEZONE
BEGIN:VEVENT
DTSTART;TZID=UTC:20240624T090000
DTEND;TZID=UTC:20240628T180000
DTSTAMP:20260425T200220
CREATED:20240609T184211Z
LAST-MODIFIED:20240624T105156Z
UID:7316-1719219600-1719597600@shiningstarsfostering.com
SUMMARY:Pride Month June
DESCRIPTION:[vc_row][vc_column][vc_column_text] \nPride M♥nth -June\nThe month of June in the UK is Pride month\, a time to celebrate LGBTQ+ communities\, their rights\, and culture globally. Celebrating diversity and people’s right to live how they choose without discrimination\, Pride Month promotes positivity and equal rights for all. Pride Month helps raise awareness of issues facing the LGBTQ+ community and provides an opportunity to celebrate the culture of inclusivity\, with parades\, street parties\, community events\, and more. \nShining Stars® embraces LGBTQ+ identities and communities and will be involved in various events to help educate people and raise awareness and also recruit LGBTQ+ foster carers to meet the increasing needs of children and young people from this community.[/vc_column_text][/vc_column][/vc_row][vc_row][vc_column][vc_zigzag color=”juicy_pink”][/vc_column][/vc_row]
URL:https://shiningstarsfostering.com/event/pride-month-june/
LOCATION:All Around UK\, United Kingdom
CATEGORIES:Other Training
ATTACH;FMTTYPE=image/jpeg:https://shiningstarsfostering.com/wp-content/uploads/2024/06/Pridemonth.jpeg
ORGANIZER;CN="Shining Stars Fostering Agency":MAILTO:info@shiningstarsfostering.com
END:VEVENT
END:VCALENDAR