BEGIN:VCALENDAR
VERSION:2.0
PRODID:-//Shining Stars Fostering Agency - ECPv6.15.20//NONSGML v1.0//EN
CALSCALE:GREGORIAN
METHOD:PUBLISH
X-WR-CALNAME:Shining Stars Fostering Agency
X-ORIGINAL-URL:https://shiningstarsfostering.com
X-WR-CALDESC:Events for Shining Stars Fostering Agency
REFRESH-INTERVAL;VALUE=DURATION:PT1H
X-Robots-Tag:noindex
X-PUBLISHED-TTL:PT1H
BEGIN:VTIMEZONE
TZID:UTC
BEGIN:STANDARD
TZOFFSETFROM:+0000
TZOFFSETTO:+0000
TZNAME:UTC
DTSTART:20180101T000000
END:STANDARD
END:VTIMEZONE
BEGIN:VEVENT
DTSTART;TZID=UTC:20240926T080000
DTEND;TZID=UTC:20240926T170000
DTSTAMP:20260425T212629
CREATED:20240915T085200Z
LAST-MODIFIED:20240925T055032Z
UID:7350-1727337600-1727370000@shiningstarsfostering.com
SUMMARY:Radicalisation Childhood Experience
DESCRIPTION:
URL:https://shiningstarsfostering.com/event/child-education-radicalisation/
LOCATION:Ilford & Croydon\, The Lansdowne Building No 2 Lansdowne Road\, Croydon\, London\, CR9 2ER\, United Kingdom
CATEGORIES:Education,Safeguarding,Training with Children
END:VEVENT
BEGIN:VEVENT
DTSTART;TZID=UTC:20240711T080000
DTEND;TZID=UTC:20240711T170000
DTSTAMP:20260425T212629
CREATED:20240530T094315Z
LAST-MODIFIED:20250430T102908Z
UID:7296-1720684800-1720717200@shiningstarsfostering.com
SUMMARY:Safer Caring
DESCRIPTION:
URL:https://shiningstarsfostering.com/event/fostering-in-london/
LOCATION:Croydon &Ilford\, United Kingdom
CATEGORIES:Education,Foster Carer Training,Safeguarding,Support Group - Foster Carer
ORGANIZER;CN="Shining Stars Fostering Agency":MAILTO:info@shiningstarsfostering.com
END:VEVENT
BEGIN:VEVENT
DTSTART;VALUE=DATE:20240424
DTEND;VALUE=DATE:20240425
DTSTAMP:20260425T212629
CREATED:20240208T102050Z
LAST-MODIFIED:20240208T102050Z
UID:7192-1713916800-1714003199@shiningstarsfostering.com
SUMMARY:Education-Autism
DESCRIPTION:
URL:https://shiningstarsfostering.com/event/autism-2/
LOCATION:Ilford
CATEGORIES:Education,Other Training,Staff Training,Support Group - Foster Carer,Training with Children
END:VEVENT
BEGIN:VEVENT
DTSTART;VALUE=DATE:20240417
DTEND;VALUE=DATE:20240418
DTSTAMP:20260425T212629
CREATED:20240208T101323Z
LAST-MODIFIED:20240208T101323Z
UID:7189-1713312000-1713398399@shiningstarsfostering.com
SUMMARY:Education/Autism
DESCRIPTION:
URL:https://shiningstarsfostering.com/event/autism/
LOCATION:Croydon
CATEGORIES:Education,Support Group - Foster Carer,Training with Children
END:VEVENT
BEGIN:VEVENT
DTSTART;VALUE=DATE:20240322
DTEND;VALUE=DATE:20240323
DTSTAMP:20260425T212629
CREATED:20240208T100053Z
LAST-MODIFIED:20250430T102848Z
UID:7184-1711065600-1711151999@shiningstarsfostering.com
SUMMARY:First Aid
DESCRIPTION:[vc_row][vc_column][vc_column_text] \nFirst Aid\nThis training will be in person training\, venues will be shared to attend. MANDATORY\, so if out of date must attend please[/vc_column_text][/vc_column][/vc_row]
URL:https://shiningstarsfostering.com/event/firstaidilford/
LOCATION:Ilford
CATEGORIES:Education,Safeguarding,Support Group - Foster Carer
END:VEVENT
BEGIN:VEVENT
DTSTART;VALUE=DATE:20240314
DTEND;VALUE=DATE:20240315
DTSTAMP:20260425T212629
CREATED:20240208T092329Z
LAST-MODIFIED:20240208T095424Z
UID:7166-1710374400-1710460799@shiningstarsfostering.com
SUMMARY:First Aid
DESCRIPTION:[vc_row][vc_column][vc_column_text] \nFirst Aid\nThis training will be in person training\, venues will be shared to attend. MANDATORY\, so if out of date must attend please[/vc_column_text][/vc_column][/vc_row]
URL:https://shiningstarsfostering.com/event/firstaid/
LOCATION:Spaces-Birmingham\, 3 Wharfside Street Spaces Level 1 Mailbox Birmingham B1 1RD\, Birmingham\, Birmingham\, B1 1RD
CATEGORIES:Education,Safeguarding,Staff Training
END:VEVENT
BEGIN:VEVENT
DTSTART;VALUE=DATE:20240221
DTEND;VALUE=DATE:20240222
DTSTAMP:20260425T212629
CREATED:20240207T172209Z
LAST-MODIFIED:20250430T130214Z
UID:7143-1708473600-1708559999@shiningstarsfostering.com
SUMMARY:Record keeping and Life Story
DESCRIPTION:
URL:https://shiningstarsfostering.com/event/record-keeping-and-life-story/
LOCATION:Croydon &Ilford\, United Kingdom
CATEGORIES:Education,Staff Training
END:VEVENT
BEGIN:VEVENT
DTSTART;TZID=UTC:20230713T100000
DTEND;TZID=UTC:20230713T170000
DTSTAMP:20260425T212629
CREATED:20230130T134251Z
LAST-MODIFIED:20250430T125419Z
UID:6874-1689242400-1689267600@shiningstarsfostering.com
SUMMARY:Promoting Positive Behaviour and De-escalation
DESCRIPTION:
URL:https://shiningstarsfostering.com/event/promoting-positive-behaviour-and-de-escalation/
LOCATION:Ilford & Croydon\, The Lansdowne Building No 2 Lansdowne Road\, Croydon\, London\, CR9 2ER\, United Kingdom
CATEGORIES:Education,Foster Carer Training
ORGANIZER;CN="Shining Stars Fostering Agency":MAILTO:info@shiningstarsfostering.com
END:VEVENT
BEGIN:VEVENT
DTSTART;TZID=UTC:20230525T100000
DTEND;TZID=UTC:20230525T170000
DTSTAMP:20260425T212629
CREATED:20230130T131600Z
LAST-MODIFIED:20230130T131600Z
UID:6864-1685008800-1685034000@shiningstarsfostering.com
SUMMARY:Radicalisation Childhood Experience
DESCRIPTION:
URL:https://shiningstarsfostering.com/event/radicalisation-childhood-experience/
LOCATION:Croydon &Ilford\, United Kingdom
CATEGORIES:Education,Foster Carer Training,Training with Children
ORGANIZER;CN="Shining Stars Fostering Agency":MAILTO:info@shiningstarsfostering.com
END:VEVENT
BEGIN:VEVENT
DTSTART;TZID=UTC:20230427T100000
DTEND;TZID=UTC:20230427T170000
DTSTAMP:20260425T212629
CREATED:20230130T130727Z
LAST-MODIFIED:20250430T104138Z
UID:6860-1682589600-1682614800@shiningstarsfostering.com
SUMMARY:Adverse Childhood Experiences
DESCRIPTION:
URL:https://shiningstarsfostering.com/event/adverse-childhood-experiences/
LOCATION:Online\, United Kingdom
CATEGORIES:Education,Foster Carer Training,Safeguarding,Training with Children
ORGANIZER;CN="Shining Stars Fostering Agency":MAILTO:info@shiningstarsfostering.com
END:VEVENT
BEGIN:VEVENT
DTSTART;TZID=UTC:20230318T080000
DTEND;TZID=UTC:20230318T170000
DTSTAMP:20260425T212629
CREATED:20230317T152810Z
LAST-MODIFIED:20230317T161624Z
UID:6960-1679126400-1679158800@shiningstarsfostering.com
SUMMARY:Child Exploitation Awareness Day
DESCRIPTION:Do you Know What CE is??\nThis Child Exploitation Awareness Day on Saturday 18th March\, 2023\, we have a range of free resources to help you build your knowledge on the different types of exploitation\, how to recognise the signs and how to embed safeguarding within your organisation. \nTypes of CE\n\n\nChild sexual exploitation (CSE) is a type of child sexual abuse which can occur both in person and online. Our guidance explains the different signs of CSE and the impact it can have on children and young people.\n\n\nChild trafficking is a form of child abuse that involves recruiting and moving children for exploitation. Learn more about how trafficking can happen\, how to recognise potential signs and what to do if you have a concern.\n\n\nGrooming can happen to anyone and can go unrecognised if children and the adults around them aren't aware they are being groomed. Learn the signs you need to be aware of and how grooming can be a part of exploitation.\n\n\nCounty lines can happen anywhere and is a form of child abuse. Learn how to recognise the signs\, respond to concerns and put in place measures to reduce the risk of exploitation.\n\n\nLet children know you care: Our guidance allow you to share information with your colleagues to help embed a safer culture within your organisation and to let children know you are listening to them
URL:https://shiningstarsfostering.com/event/ce-awareness-day-18-march/
LOCATION:London
CATEGORIES:Education,Safeguarding,Training with Children
END:VEVENT
BEGIN:VEVENT
DTSTART;TZID=UTC:20230201T100000
DTEND;TZID=UTC:20230202T170000
DTSTAMP:20260425T212629
CREATED:20230130T110353Z
LAST-MODIFIED:20250430T125937Z
UID:6855-1675245600-1675357200@shiningstarsfostering.com
SUMMARY:Education Autism
DESCRIPTION:
URL:https://shiningstarsfostering.com/event/education-autism/
LOCATION:Croydon
CATEGORIES:Education,Foster Carer Training,Support Group - Foster Carer
ORGANIZER;CN="Shining Stars Fostering Agency":MAILTO:info@shiningstarsfostering.com
END:VEVENT
BEGIN:VEVENT
DTSTART;TZID=UTC:20221206T100000
DTEND;TZID=UTC:20221206T140000
DTSTAMP:20260425T212629
CREATED:20221101T180506Z
LAST-MODIFIED:20250430T125915Z
UID:6751-1670320800-1670335200@shiningstarsfostering.com
SUMMARY:Education and Autism
DESCRIPTION:Education and Autism at Shining Stars Fosterting on 06/12/2022 From 10 am -2pm
URL:https://shiningstarsfostering.com/event/education-and-autism/
LOCATION:Croydon
CATEGORIES:Education
ORGANIZER;CN="Shining Stars Fostering Agency":MAILTO:info@shiningstarsfostering.com
END:VEVENT
BEGIN:VEVENT
DTSTART;TZID=UTC:20221112T100000
DTEND;TZID=UTC:20221112T140000
DTSTAMP:20260425T212629
CREATED:20221101T175216Z
LAST-MODIFIED:20250430T130337Z
UID:6743-1668247200-1668261600@shiningstarsfostering.com
SUMMARY:A Journey with UASC - SS & Refugee Youth Services
DESCRIPTION:A Journey with UASC – SS & Refugee Youth Services at Shining Stars Fostering on 12/11/ 2022 from 10 am -2pm
URL:https://shiningstarsfostering.com/event/a-journey-with-uasc-ss-refugee-youth-services/
LOCATION:Croydon
CATEGORIES:Care Leavers Training,Education,Training with Children
ORGANIZER;CN="Shining Stars Fostering Agency":MAILTO:info@shiningstarsfostering.com
END:VEVENT
BEGIN:VEVENT
DTSTART;TZID=UTC:20210422T100000
DTEND;TZID=UTC:20210422T130000
DTSTAMP:20260425T212629
CREATED:20210422T121339Z
LAST-MODIFIED:20250430T130104Z
UID:6224-1619085600-1619096400@shiningstarsfostering.com
SUMMARY:Virtual Training - Working with Unaccompanied Asylum-Seeking Young People (Croydon)
DESCRIPTION:Working with Unaccompanied Asylum-Seeking Young People \n20.04.21 Ilford\n22.04.21 Croydon
URL:https://shiningstarsfostering.com/event/virtual-training-working-with-unaccompanied-asylum-seeking-young-people-croydon/
LOCATION:London
CATEGORIES:Education,Other Training,Safeguarding,Training with Children
END:VEVENT
BEGIN:VEVENT
DTSTART;TZID=UTC:20210420T100000
DTEND;TZID=UTC:20210420T130000
DTSTAMP:20260425T212629
CREATED:20210420T091101Z
LAST-MODIFIED:20250430T105216Z
UID:6221-1618912800-1618923600@shiningstarsfostering.com
SUMMARY:Virtual Training - Working with Unaccompanied Asylum-Seeking Young People (Ilford)
DESCRIPTION:Working with Unaccompanied Asylum-Seeking Young People \n20.04.21 Ilford\n22.04.21 Croydon
URL:https://shiningstarsfostering.com/event/virtual-training-working-with-unaccompanied-asylum-seeking-young-people-ilford/
LOCATION:London
CATEGORIES:Education,Other Training,Safeguarding,Training with Children
END:VEVENT
BEGIN:VEVENT
DTSTART;VALUE=DATE:20200313
DTEND;VALUE=DATE:20200401
DTSTAMP:20260425T212629
CREATED:20200313T162901Z
LAST-MODIFIED:20250430T130354Z
UID:5186-1584057600-1585699199@shiningstarsfostering.com
SUMMARY:All Training cancelled until further notice!
DESCRIPTION:All training/events have been cancelled until further notice due to the Coronavirus outbreak.
URL:https://shiningstarsfostering.com/event/all-training-cancelled-until-further-notice/
LOCATION:London
CATEGORIES:Care Leavers Training,Education,Foster Carer Training,Fun Day,Other Training,Safeguarding,Support Group - Foster Carer
ORGANIZER;CN="Shining Stars Fostering Agency":MAILTO:info@shiningstarsfostering.com
END:VEVENT
BEGIN:VEVENT
DTSTART;VALUE=DATE:20190911
DTEND;VALUE=DATE:20190912
DTSTAMP:20260425T212629
CREATED:20190815T105759Z
LAST-MODIFIED:20250430T130252Z
UID:2358-1568160000-1568246399@shiningstarsfostering.com
SUMMARY:Education Workshop - Croydon
DESCRIPTION:Education Workshop for Foster Carers on 11th September 2019 in Croydon held by our Educational Consultant. \nDates subject to change. Please confirm prior to attending the training. We usually sent out training invites prior to training dates.
URL:https://shiningstarsfostering.com/event/life-story-work-2/
LOCATION:Croydon
CATEGORIES:Education
ORGANIZER;CN="Shining Stars Fostering Agency":MAILTO:info@shiningstarsfostering.com
END:VEVENT
BEGIN:VEVENT
DTSTART;VALUE=DATE:20190909
DTEND;VALUE=DATE:20190910
DTSTAMP:20260425T212629
CREATED:20190116T033545Z
LAST-MODIFIED:20250430T102931Z
UID:1688-1567987200-1568073599@shiningstarsfostering.com
SUMMARY:Education Workshop - Ilford
DESCRIPTION:Education Workshop for Foster Carers on 9th September 2019 in Ilford held by our Educational Consultant. \nDates subject to change. Please confirm prior to attending the training. We usually sent out training invites prior to training dates.
URL:https://shiningstarsfostering.com/event/life-story-work/
LOCATION:Ilford
CATEGORIES:Education
ORGANIZER;CN="Shining Stars Fostering Agency":MAILTO:info@shiningstarsfostering.com
END:VEVENT
END:VCALENDAR