BEGIN:VCALENDAR
VERSION:2.0
PRODID:-//Shining Stars Fostering Agency - ECPv6.15.20//NONSGML v1.0//EN
CALSCALE:GREGORIAN
METHOD:PUBLISH
X-WR-CALNAME:Shining Stars Fostering Agency
X-ORIGINAL-URL:https://shiningstarsfostering.com
X-WR-CALDESC:Events for Shining Stars Fostering Agency
REFRESH-INTERVAL;VALUE=DURATION:PT1H
X-Robots-Tag:noindex
X-PUBLISHED-TTL:PT1H
BEGIN:VTIMEZONE
TZID:UTC
BEGIN:STANDARD
TZOFFSETFROM:+0000
TZOFFSETTO:+0000
TZNAME:UTC
DTSTART:20200101T000000
END:STANDARD
END:VTIMEZONE
BEGIN:VEVENT
DTSTART;TZID=UTC:20210624T093000
DTEND;TZID=UTC:20210624T143000
DTSTAMP:20260423T120313
CREATED:20210620T110127Z
LAST-MODIFIED:20210625T110816Z
UID:6377-1624527000-1624545000@shiningstarsfostering.com
SUMMARY:Safeguarding at Shining Stars Fostering - Foster Carer Training
DESCRIPTION:Safeguarding at Shining Stars Fostering – Foster Carer Training\n24/06/2021 from 9:30am-2:30pm
URL:https://shiningstarsfostering.com/event/safeguarding-training-shining-stars-fostering/
LOCATION:London
CATEGORIES:Foster Carer Training,Safeguarding
END:VEVENT
BEGIN:VEVENT
DTSTART;TZID=UTC:20210628T093000
DTEND;TZID=UTC:20210628T143000
DTSTAMP:20260423T120313
CREATED:20210624T110654Z
LAST-MODIFIED:20210625T120424Z
UID:6381-1624872600-1624890600@shiningstarsfostering.com
SUMMARY:Safeguarding at Shining Stars Fostering - Foster Carer Training
DESCRIPTION:Safeguarding at Shining Stars Fostering – Foster Carer Training\n28/06/2021 from 9:30am-2:30pm
URL:https://shiningstarsfostering.com/event/safeguarding-at-shining-stars-fostering-foster-carer-training/
LOCATION:London
CATEGORIES:Foster Carer Training,Safeguarding
ORGANIZER;CN="Shining Stars Fostering Agency":MAILTO:info@shiningstarsfostering.com
END:VEVENT
END:VCALENDAR