BEGIN:VCALENDAR
VERSION:2.0
PRODID:-//Shining Stars Fostering Agency - ECPv6.15.20//NONSGML v1.0//EN
CALSCALE:GREGORIAN
METHOD:PUBLISH
X-ORIGINAL-URL:https://shiningstarsfostering.com
X-WR-CALDESC:Events for Shining Stars Fostering Agency
REFRESH-INTERVAL;VALUE=DURATION:PT1H
X-Robots-Tag:noindex
X-PUBLISHED-TTL:PT1H
BEGIN:VTIMEZONE
TZID:UTC
BEGIN:STANDARD
TZOFFSETFROM:+0000
TZOFFSETTO:+0000
TZNAME:UTC
DTSTART:20200101T000000
END:STANDARD
END:VTIMEZONE
BEGIN:VEVENT
DTSTART;VALUE=DATE:20240625
DTEND;VALUE=DATE:20240626
DTSTAMP:20260426T002303
CREATED:20240511T105421Z
LAST-MODIFIED:20240511T105421Z
UID:7241-1719273600-1719359999@shiningstarsfostering.com
SUMMARY:Safeguarding
DESCRIPTION:Safeguarding : Internal Training ::June 27th 2024
URL:https://shiningstarsfostering.com/event/safeguarding-june24/
LOCATION:Ilford & Croydon\, The Lansdowne Building No 2 Lansdowne Road\, Croydon\, London\, CR9 2ER\, United Kingdom
CATEGORIES:Safeguarding,Staff Training,Support Group - Foster Carer
ORGANIZER;CN="Shining Stars Fostering Agency":MAILTO:info@shiningstarsfostering.com
END:VEVENT
BEGIN:VEVENT
DTSTART;VALUE=DATE:20240515
DTEND;VALUE=DATE:20240516
DTSTAMP:20260426T002303
CREATED:20240511T100715Z
LAST-MODIFIED:20240511T100715Z
UID:7225-1715731200-1715817599@shiningstarsfostering.com
SUMMARY:Reflection of Practice Training - Fostering
DESCRIPTION:  \n\n\n\n\nA Reflection of Practice Training in Fostering\nBy\nNeeta Bhalla \nILFORD Croydon \n15.05.2024
URL:https://shiningstarsfostering.com/event/practice-training-reflection/
LOCATION:Ilford & Croydon\, The Lansdowne Building No 2 Lansdowne Road\, Croydon\, London\, CR9 2ER\, United Kingdom
CATEGORIES:Foster Carer Training,Staff Training,Support Group - Foster Carer
END:VEVENT
BEGIN:VEVENT
DTSTART;VALUE=DATE:20240424
DTEND;VALUE=DATE:20240425
DTSTAMP:20260426T002303
CREATED:20240208T102050Z
LAST-MODIFIED:20240208T102050Z
UID:7192-1713916800-1714003199@shiningstarsfostering.com
SUMMARY:Education-Autism
DESCRIPTION:
URL:https://shiningstarsfostering.com/event/autism-2/
LOCATION:Ilford
CATEGORIES:Education,Other Training,Staff Training,Support Group - Foster Carer,Training with Children
END:VEVENT
BEGIN:VEVENT
DTSTART;VALUE=DATE:20240314
DTEND;VALUE=DATE:20240315
DTSTAMP:20260426T002303
CREATED:20240208T092329Z
LAST-MODIFIED:20240208T095424Z
UID:7166-1710374400-1710460799@shiningstarsfostering.com
SUMMARY:First Aid
DESCRIPTION:[vc_row][vc_column][vc_column_text] \nFirst Aid\nThis training will be in person training\, venues will be shared to attend. MANDATORY\, so if out of date must attend please[/vc_column_text][/vc_column][/vc_row]
URL:https://shiningstarsfostering.com/event/firstaid/
LOCATION:Spaces-Birmingham\, 3 Wharfside Street Spaces Level 1 Mailbox Birmingham B1 1RD\, Birmingham\, Birmingham\, B1 1RD
CATEGORIES:Education,Safeguarding,Staff Training
END:VEVENT
BEGIN:VEVENT
DTSTART;VALUE=DATE:20240221
DTEND;VALUE=DATE:20240222
DTSTAMP:20260426T002303
CREATED:20240207T172209Z
LAST-MODIFIED:20250430T130214Z
UID:7143-1708473600-1708559999@shiningstarsfostering.com
SUMMARY:Record keeping and Life Story
DESCRIPTION:
URL:https://shiningstarsfostering.com/event/record-keeping-and-life-story/
LOCATION:Croydon &Ilford\, United Kingdom
CATEGORIES:Education,Staff Training
END:VEVENT
BEGIN:VEVENT
DTSTART;TZID=UTC:20221115T100000
DTEND;TZID=UTC:20221115T140000
DTSTAMP:20260426T002303
CREATED:20221101T175732Z
LAST-MODIFIED:20250430T130125Z
UID:6745-1668506400-1668520800@shiningstarsfostering.com
SUMMARY:Safeguarding : FC and Staff
DESCRIPTION:Safeguarding – Foster Carer & Staff  at Shining Stars Fostering on 15/11/ 2022 From 10 am -2pm
URL:https://shiningstarsfostering.com/event/safeguarding-fc-and-staff/
LOCATION:Croydon
CATEGORIES:Foster Carer Training,Safeguarding,Staff Training
ORGANIZER;CN="Shining Stars Fostering Agency":MAILTO:info@shiningstarsfostering.com
END:VEVENT
BEGIN:VEVENT
DTSTART;TZID=UTC:20221109T100000
DTEND;TZID=UTC:20221109T140000
DTSTAMP:20260426T002303
CREATED:20221101T174220Z
LAST-MODIFIED:20221101T174322Z
UID:6740-1667988000-1668002400@shiningstarsfostering.com
SUMMARY:Simulation Training To Staff - CSE and Radicalisation
DESCRIPTION:Simulation Training to staff  on Child Sexual Exploitation and Radicalisation  -Shining Stars Fostering \nStaff Training on 9/11/2022 from 10 am -2 pm
URL:https://shiningstarsfostering.com/event/simulation-training-to-staff-cse-and-radicalisation/
LOCATION:Croydon
CATEGORIES:Staff Training
ORGANIZER;CN="Shining Stars Fostering Agency":MAILTO:info@shiningstarsfostering.com
END:VEVENT
BEGIN:VEVENT
DTSTART;TZID=UTC:20210427T093000
DTEND;TZID=UTC:20210427T160000
DTSTAMP:20260426T002303
CREATED:20210426T092526Z
LAST-MODIFIED:20250430T130436Z
UID:6226-1619515800-1619539200@shiningstarsfostering.com
SUMMARY:Virtual Training - Staff Training on Safeguarding
DESCRIPTION:SSFA Safeguarding Staff Training 2021 \nThe aim of the day is to increase all staff’s awareness and confidence in safeguarding children and young people in our care.
URL:https://shiningstarsfostering.com/event/staff-training-on-safeguarding/
LOCATION:London
CATEGORIES:Other Training,Safeguarding,Staff Training
END:VEVENT
END:VCALENDAR